BEGIN:VCALENDAR
VERSION:2.0
PRODID:-//Santuário de Fátima//NONSGML SF2ICAL v1.0//DE
METHOD:PUBLISH
X-WR-CALNAME:Santuário de Fátima
X-ORIGINAL-URL:https://www.fatima.pt/
X-WR-CALDESC:Events for Santuário de Fátima
BEGIN:VEVENT
UID:cc213cd1-ab31-458f-bf2d-8e215e30ec8b
DTSTAMP:20260423T131320Z
DTSTART;VALUE=DATE:20310101
DTEND;VALUE=DATE:20310102
LOCATION:
SUMMARY:Aniversário do Sagrado Lausperene
DESCRIPTION:
END:VEVENT
END:VCALENDAR
