BEGIN:VCALENDAR
VERSION:2.0
PRODID:-//Santuário de Fátima//NONSGML SF2ICAL v1.0//DE
METHOD:PUBLISH
X-WR-CALNAME:Santuário de Fátima
X-ORIGINAL-URL:https://www.fatima.pt/
X-WR-CALDESC:Events for Santuário de Fátima
BEGIN:VEVENT
UID:990e69fe-2d5c-48a3-a700-a6ca4e7f1c81
DTSTAMP:20260423T180539Z
DTSTART;VALUE=DATE:20300101
DTEND;VALUE=DATE:20300102
LOCATION:
SUMMARY:Aniversário do Sagrado Lausperene
DESCRIPTION:
END:VEVENT
END:VCALENDAR
