BEGIN:VCALENDAR
VERSION:2.0
PRODID:-//Santuário de Fátima//NONSGML SF2ICAL v1.0//DE
METHOD:PUBLISH
X-WR-CALNAME:Santuário de Fátima
X-ORIGINAL-URL:https://www.fatima.pt/
X-WR-CALDESC:Events for Santuário de Fátima
BEGIN:VEVENT
UID:4f5cbfac-522d-4077-b685-1e5f1c85ec7c
DTSTAMP:20260423T215639Z
DTSTART;VALUE=DATE:20260819
DTEND;VALUE=DATE:20260820
LOCATION:
SUMMARY:Celebração do aniversário das aparições de Nossa Senhora nos V
	alinhos
DESCRIPTION:
END:VEVENT
END:VCALENDAR
