BEGIN:VCALENDAR
VERSION:2.0
PRODID:-//Santuário de Fátima//NONSGML SF2ICAL v1.0//DE
METHOD:PUBLISH
X-WR-CALNAME:Santuário de Fátima
X-ORIGINAL-URL:https://www.fatima.pt/
X-WR-CALDESC:Events for Santuário de Fátima
BEGIN:VEVENT
UID:852975d9-c2a7-414a-937d-d42f2eb63384
DTSTAMP:20260423T180914Z
DTSTART;VALUE=DATE:20290819
DTEND;VALUE=DATE:20290820
LOCATION:
SUMMARY:Celebração do aniversário das aparições de Nossa Senhora nos V
	alinhos
DESCRIPTION:
END:VEVENT
END:VCALENDAR
