BEGIN:VCALENDAR
VERSION:2.0
PRODID:-//Santuário de Fátima//NONSGML SF2ICAL v1.0//DE
METHOD:PUBLISH
X-WR-CALNAME:Santuário de Fátima
X-ORIGINAL-URL:https://www.fatima.pt/
X-WR-CALDESC:Events for Santuário de Fátima
BEGIN:VEVENT
UID:635393a3-4cad-47b3-86b3-32d71cc2f7fb
DTSTAMP:20260423T233655Z
DTSTART;VALUE=DATE:20261102
DTEND;VALUE=DATE:20261103
LOCATION:
SUMMARY:Comemoração de Todos os Fiéis Defuntos
DESCRIPTION:
END:VEVENT
END:VCALENDAR
