BEGIN:VCALENDAR
VERSION:2.0
PRODID:-//Santuário de Fátima//NONSGML SF2ICAL v1.0//DE
METHOD:PUBLISH
X-WR-CALNAME:Santuário de Fátima
X-ORIGINAL-URL:https://www.fatima.pt/
X-WR-CALDESC:Events for Santuário de Fátima
BEGIN:VEVENT
UID:06bef64e-101b-46e1-8b5e-4c422cc3019c
DTSTAMP:20260423T175055Z
DTSTART;VALUE=DATE:20331113
DTEND;VALUE=DATE:20331114
LOCATION:Santíssima Trindade
SUMMARY:Dedicação da Basílica da Santíssima Trindade
DESCRIPTION:
END:VEVENT
END:VCALENDAR
