BEGIN:VCALENDAR
VERSION:2.0
PRODID:-//Santuário de Fátima//NONSGML SF2ICAL v1.0//DE
METHOD:PUBLISH
X-WR-CALNAME:Santuário de Fátima
X-ORIGINAL-URL:https://www.fatima.pt/
X-WR-CALDESC:Events for Santuário de Fátima
BEGIN:VEVENT
UID:5460a490-37f0-4394-befe-1ece2c0f5150
DTSTAMP:20260423T201832Z
DTSTART;VALUE=DATE:20330726
DTEND;VALUE=DATE:20330727
LOCATION:
SUMMARY:Dia dos avós, na Festa Litúrgica de S. Joaquim e Santa Ana
DESCRIPTION:
END:VEVENT
END:VCALENDAR
