BEGIN:VCALENDAR
VERSION:2.0
PRODID:-//Santuário de Fátima//NONSGML SF2ICAL v1.0//DE
METHOD:PUBLISH
X-WR-CALNAME:Santuário de Fátima
X-ORIGINAL-URL:https://www.fatima.pt/
X-WR-CALDESC:Events for Santuário de Fátima
BEGIN:VEVENT
UID:0e77fe87-1f12-4a39-9d45-5c137a35b4c9
DTSTAMP:20260423T195238Z
DTSTART;VALUE=DATE:20360220
DTEND;VALUE=DATE:20360221
LOCATION:Festa
SUMMARY:Festa dos Santos Francisco e Jacinta Marto
DESCRIPTION:
END:VEVENT
END:VCALENDAR
