BEGIN:VCALENDAR
VERSION:2.0
PRODID:-//Santuário de Fátima//NONSGML SF2ICAL v1.0//DE
METHOD:PUBLISH
X-WR-CALNAME:Santuário de Fátima
X-ORIGINAL-URL:https://www.fatima.pt/
X-WR-CALDESC:Events for Santuário de Fátima
BEGIN:VEVENT
UID:bc6b4c9b-9f4a-4e43-bf5f-fc95a3e2a95e
DTSTAMP:20260423T153239Z
DTSTART;VALUE=DATE:20290220
DTEND;VALUE=DATE:20290221
LOCATION:Festa
SUMMARY:Festa dos Santos Francisco e Jacinta Marto
DESCRIPTION:
END:VEVENT
END:VCALENDAR
