BEGIN:VCALENDAR
VERSION:2.0
PRODID:-//Santuário de Fátima//NONSGML SF2ICAL v1.0//DE
METHOD:PUBLISH
X-WR-CALNAME:Santuário de Fátima
X-ORIGINAL-URL:https://www.fatima.pt/
X-WR-CALDESC:Events for Santuário de Fátima
BEGIN:VEVENT
UID:bf354fc5-f2c7-4885-acc7-eeb312801624
DTSTAMP:20260423T203609Z
DTSTART;VALUE=DATE:20261106
DTEND;VALUE=DATE:20261109
LOCATION:
SUMMARY:Itinerário de espiritualidade, Escola do Santuário: «Todas as g
	raças necessárias para a salvação». Dos cinco primeiros sábados à t
	otalidade da vida
DESCRIPTION:
END:VEVENT
END:VCALENDAR
