BEGIN:VCALENDAR
VERSION:2.0
PRODID:-//Santuário de Fátima//NONSGML SF2ICAL v1.0//DE
METHOD:PUBLISH
X-WR-CALNAME:Santuário de Fátima
X-ORIGINAL-URL:https://www.fatima.pt/
X-WR-CALDESC:Events for Santuário de Fátima
BEGIN:VEVENT
UID:83cf733f-d1e9-4c99-8d2c-d2f5fbc99c8f
DTSTAMP:20260423T042919Z
DTSTART;VALUE=DATE:20260508
DTEND;VALUE=DATE:20260509
LOCATION:
SUMMARY:Lectio Divina Preparatória do Domingo
DESCRIPTION:
END:VEVENT
END:VCALENDAR
