BEGIN:VCALENDAR
VERSION:2.0
PRODID:-//Santuário de Fátima//NONSGML SF2ICAL v1.0//DE
METHOD:PUBLISH
X-WR-CALNAME:Santuário de Fátima
X-ORIGINAL-URL:https://www.fatima.pt/
X-WR-CALDESC:Events for Santuário de Fátima
BEGIN:VEVENT
UID:64ab945b-9967-4a0d-bc70-20c3db56d5c8
DTSTAMP:20260423T114533Z
DTSTART;VALUE=DATE:20310612
DTEND;VALUE=DATE:20310613
LOCATION:
SUMMARY:Peregrinação Aniversária
DESCRIPTION:
END:VEVENT
END:VCALENDAR
