BEGIN:VCALENDAR
VERSION:2.0
PRODID:-//Santuário de Fátima//NONSGML SF2ICAL v1.0//DE
METHOD:PUBLISH
X-WR-CALNAME:Santuário de Fátima
X-ORIGINAL-URL:https://www.fatima.pt/
X-WR-CALDESC:Events for Santuário de Fátima
BEGIN:VEVENT
UID:4998b968-95d4-45a0-88b5-18ef1b2bad55
DTSTAMP:20260423T070515Z
DTSTART;VALUE=DATE:20260904
DTEND;VALUE=DATE:20260906
LOCATION:
SUMMARY:Peregrinação de Idosos
DESCRIPTION:
END:VEVENT
END:VCALENDAR
