BEGIN:VCALENDAR
VERSION:2.0
PRODID:-//Santuário de Fátima//NONSGML SF2ICAL v1.0//DE
METHOD:PUBLISH
X-WR-CALNAME:Santuário de Fátima
X-ORIGINAL-URL:https://www.fatima.pt/
X-WR-CALDESC:Events for Santuário de Fátima
BEGIN:VEVENT
UID:8be17b11-be7b-4b7a-8677-da9b3738158a
DTSTAMP:20260423T062830Z
DTSTART;VALUE=DATE:20260924
DTEND;VALUE=DATE:20260928
LOCATION:
SUMMARY:Retiro de Doentes
DESCRIPTION:
END:VEVENT
END:VCALENDAR
