BEGIN:VCALENDAR
VERSION:2.0
PRODID:-//Santuário de Fátima//NONSGML SF2ICAL v1.0//DE
METHOD:PUBLISH
X-WR-CALNAME:Santuário de Fátima
X-ORIGINAL-URL:https://www.fatima.pt/
X-WR-CALDESC:Events for Santuário de Fátima
BEGIN:VEVENT
UID:dcec2c1c-fb1d-431a-a59b-8d9cbad7cd9a
DTSTAMP:20260422T222113Z
DTSTART;VALUE=DATE:20260801
DTEND;VALUE=DATE:20260808
LOCATION:
SUMMARY:Vem para o meio. Férias para pais de pessoas com deficiência –
	 3.ª semana
DESCRIPTION:
END:VEVENT
END:VCALENDAR
