BEGIN:VCALENDAR
VERSION:2.0
PRODID:-//Santuário de Fátima//NONSGML SF2ICAL v1.0//DE
METHOD:PUBLISH
X-WR-CALNAME:Santuário de Fátima
X-ORIGINAL-URL:https://www.fatima.pt/
X-WR-CALDESC:Events for Santuário de Fátima
BEGIN:VEVENT
UID:998e697e-d56e-4c71-a322-a6bce4991932
DTSTAMP:20260423T194230Z
DTSTART;VALUE=DATE:20260814
DTEND;VALUE=DATE:20260815
LOCATION:
SUMMARY:Vigília da Assunção da Virgem de Santa Maria, com canto do hino 
	Akathistos
DESCRIPTION:
END:VEVENT
END:VCALENDAR
