BEGIN:VCALENDAR
VERSION:2.0
PRODID:-//Santuário de Fátima//NONSGML SF2ICAL v1.0//DE
METHOD:PUBLISH
X-WR-CALNAME:Santuário de Fátima
X-ORIGINAL-URL:https://www.fatima.pt/
X-WR-CALDESC:Events for Santuário de Fátima
BEGIN:VEVENT
UID:4269b299-7756-4c46-9a9a-7d5c8fbc905c
DTSTAMP:20260423T182309Z
DTSTART;VALUE=DATE:20290814
DTEND;VALUE=DATE:20290815
LOCATION:
SUMMARY:Vigília da Assunção da Virgem de Santa Maria, com canto do hino 
	Akathistos
DESCRIPTION:
END:VEVENT
END:VCALENDAR
