BEGIN:VCALENDAR
VERSION:2.0
PRODID:-//Santuário de Fátima//NONSGML SF2ICAL v1.0//DE
METHOD:PUBLISH
X-WR-CALNAME:Santuário de Fátima
X-ORIGINAL-URL:https://www.fatima.pt/
X-WR-CALDESC:Events for Santuário de Fátima
BEGIN:VEVENT
UID:fab60a46-2bb6-460c-a074-abca7881f94b
DTSTAMP:20260419T220218Z
DTSTART:20261007T201500Z
DTEND:20261007T211500Z
LOCATION:
SUMMARY:Visita Temática à Exposição Temporária
DESCRIPTION:
END:VEVENT
END:VCALENDAR
