BEGIN:VCALENDAR
VERSION:2.0
PRODID:-//Santuário de Fátima//NONSGML SF2ICAL v1.0//EN
METHOD:PUBLISH
X-WR-CALNAME:Santuário de Fátima
X-ORIGINAL-URL:https://www.fatima.pt/
X-WR-CALDESC:Events for Santuário de Fátima
BEGIN:VEVENT
UID:eb8d1b7d-a37a-4aac-975e-a7044b6191ab
DTSTAMP:20260423T175240Z
DTSTART;VALUE=DATE:20340322
DTEND;VALUE=DATE:20340323
LOCATION:
SUMMARY:Aniversário do nascimento da Irmã Lúcia
DESCRIPTION:
END:VEVENT
END:VCALENDAR
