BEGIN:VCALENDAR
VERSION:2.0
PRODID:-//Santuário de Fátima//NONSGML SF2ICAL v1.0//EN
METHOD:PUBLISH
X-WR-CALNAME:Santuário de Fátima
X-ORIGINAL-URL:https://www.fatima.pt/
X-WR-CALDESC:Events for Santuário de Fátima
BEGIN:VEVENT
UID:875b77ab-9fda-46f3-b079-cb4ca80cb7c5
DTSTAMP:20260423T175236Z
DTSTART;VALUE=DATE:20340305
DTEND;VALUE=DATE:20340306
LOCATION:
SUMMARY:Aniversário do nascimento de Santa Jacinta Marto
DESCRIPTION:
END:VEVENT
END:VCALENDAR
