BEGIN:VCALENDAR
VERSION:2.0
PRODID:-//Santuário de Fátima//NONSGML SF2ICAL v1.0//EN
METHOD:PUBLISH
X-WR-CALNAME:Santuário de Fátima
X-ORIGINAL-URL:https://www.fatima.pt/
X-WR-CALDESC:Events for Santuário de Fátima
BEGIN:VEVENT
UID:57a0a750-3495-47bc-8b90-11625e9ef008
DTSTAMP:20260423T153821Z
DTSTART;VALUE=DATE:20320726
DTEND;VALUE=DATE:20320727
LOCATION:
SUMMARY:Dia dos avós, na Festa Litúrgica de S. Joaquim e Santa Ana
DESCRIPTION:
END:VEVENT
END:VCALENDAR
