BEGIN:VCALENDAR
VERSION:2.0
PRODID:-//Santuário de Fátima//NONSGML SF2ICAL v1.0//EN
METHOD:PUBLISH
X-WR-CALNAME:Santuário de Fátima
X-ORIGINAL-URL:https://www.fatima.pt/
X-WR-CALDESC:Events for Santuário de Fátima
BEGIN:VEVENT
UID:c2643294-efa5-4f9f-be5d-f88a198afc3f
DTSTAMP:20260423T180825Z
DTSTART;VALUE=DATE:20261208
DTEND;VALUE=DATE:20261209
LOCATION:
SUMMARY:Imaculada Conceição da Virgem Santa Maria - SOLENIDADE
DESCRIPTION:
END:VEVENT
END:VCALENDAR
