BEGIN:VCALENDAR
VERSION:2.0
PRODID:-//Santuário de Fátima//NONSGML SF2ICAL v1.0//EN
METHOD:PUBLISH
X-WR-CALNAME:Santuário de Fátima
X-ORIGINAL-URL:https://www.fatima.pt/
X-WR-CALDESC:Events for Santuário de Fátima
BEGIN:VEVENT
UID:af405fb0-7302-4817-9653-ea7226f1d3cd
DTSTAMP:20260423T153629Z
DTSTART;VALUE=DATE:20311208
DTEND;VALUE=DATE:20311209
LOCATION:
SUMMARY:Imaculada Conceição da Virgem Santa Maria - SOLENIDADE
DESCRIPTION:
END:VEVENT
END:VCALENDAR
