BEGIN:VCALENDAR
VERSION:2.0
PRODID:-//Santuário de Fátima//NONSGML SF2ICAL v1.0//EN
METHOD:PUBLISH
X-WR-CALNAME:Santuário de Fátima
X-ORIGINAL-URL:https://www.fatima.pt/
X-WR-CALDESC:Events for Santuário de Fátima
BEGIN:VEVENT
UID:801b70eb-47cc-47a4-9fff-c44045b9d432
DTSTAMP:20260423T133120Z
DTSTART;VALUE=DATE:20280513
DTEND;VALUE=DATE:20280514
LOCATION:
SUMMARY:Peregrinação Aniversária
DESCRIPTION:
END:VEVENT
END:VCALENDAR
