BEGIN:VCALENDAR
VERSION:2.0
PRODID:-//Santuário de Fátima//NONSGML SF2ICAL v1.0//EN
METHOD:PUBLISH
X-WR-CALNAME:Santuário de Fátima
X-ORIGINAL-URL:https://www.fatima.pt/
X-WR-CALDESC:Events for Santuário de Fátima
BEGIN:VEVENT
UID:a6c85638-3f57-4bd2-8577-e16a7d991b26
DTSTAMP:20260423T110638Z
DTSTART;VALUE=DATE:20280713
DTEND;VALUE=DATE:20280714
LOCATION:
SUMMARY:Peregrinação Aniversária
DESCRIPTION:
END:VEVENT
END:VCALENDAR
