BEGIN:VCALENDAR
VERSION:2.0
PRODID:-//Santuário de Fátima//NONSGML SF2ICAL v1.0//EN
METHOD:PUBLISH
X-WR-CALNAME:Santuário de Fátima
X-ORIGINAL-URL:https://www.fatima.pt/
X-WR-CALDESC:Events for Santuário de Fátima
BEGIN:VEVENT
UID:45c0b530-7c54-4d69-af2f-152c012df586
DTSTAMP:20260423T201024Z
DTSTART;VALUE=DATE:20330813
DTEND;VALUE=DATE:20330814
LOCATION:
SUMMARY:Peregrinação aniversária
DESCRIPTION:
END:VEVENT
END:VCALENDAR
