BEGIN:VCALENDAR
VERSION:2.0
PRODID:-//Santuário de Fátima//NONSGML SF2ICAL v1.0//EN
METHOD:PUBLISH
X-WR-CALNAME:Santuário de Fátima
X-ORIGINAL-URL:https://www.fatima.pt/
X-WR-CALDESC:Events for Santuário de Fátima
BEGIN:VEVENT
UID:ce3c3ecc-78d7-48d7-b2fc-9f5d7c7dc452
DTSTAMP:20260422T010732Z
DTSTART;VALUE=DATE:20260605
DTEND;VALUE=DATE:20260607
LOCATION:
SUMMARY:Peregrinação de Idosos
DESCRIPTION:
END:VEVENT
END:VCALENDAR
