BEGIN:VCALENDAR
VERSION:2.0
PRODID:-//Santuário de Fátima//NONSGML SF2ICAL v1.0//EN
METHOD:PUBLISH
X-WR-CALNAME:Santuário de Fátima
X-ORIGINAL-URL:https://www.fatima.pt/
X-WR-CALDESC:Events for Santuário de Fátima
BEGIN:VEVENT
UID:031bf3eb-4cff-473d-9515-534931f6a560
DTSTAMP:20260423T222532Z
DTSTART;VALUE=DATE:20350812
DTEND;VALUE=DATE:20350813
LOCATION:
SUMMARY:Peregrinação Internacional Aniversária
DESCRIPTION:
END:VEVENT
END:VCALENDAR
