BEGIN:VCALENDAR
VERSION:2.0
PRODID:-//Santuário de Fátima//NONSGML SF2ICAL v1.0//EN
METHOD:PUBLISH
X-WR-CALNAME:Santuário de Fátima
X-ORIGINAL-URL:https://www.fatima.pt/
X-WR-CALDESC:Events for Santuário de Fátima
BEGIN:VEVENT
UID:e12011d0-369c-4d79-a017-a896999c9c98
DTSTAMP:20260423T153219Z
DTSTART;VALUE=DATE:20300113
DTEND;VALUE=DATE:20300114
LOCATION:
SUMMARY:Peregrinação Mensal
DESCRIPTION:
END:VEVENT
END:VCALENDAR
