BEGIN:VCALENDAR
VERSION:2.0
PRODID:-//Santuário de Fátima//NONSGML SF2ICAL v1.0//EN
METHOD:PUBLISH
X-WR-CALNAME:Santuário de Fátima
X-ORIGINAL-URL:https://www.fatima.pt/
X-WR-CALDESC:Events for Santuário de Fátima
BEGIN:VEVENT
UID:2053d0a3-f61f-4186-bd8e-723963891d49
DTSTAMP:20260423T105655Z
DTSTART;VALUE=DATE:20280506
DTEND;VALUE=DATE:20280507
LOCATION:
SUMMARY:Primeiro Sábado
DESCRIPTION:
END:VEVENT
END:VCALENDAR
