BEGIN:VCALENDAR
VERSION:2.0
PRODID:-//Santuário de Fátima//NONSGML SF2ICAL v1.0//EN
METHOD:PUBLISH
X-WR-CALNAME:Santuário de Fátima
X-ORIGINAL-URL:https://www.fatima.pt/
X-WR-CALDESC:Events for Santuário de Fátima
BEGIN:VEVENT
UID:7d6e8d9e-78ce-4c3e-aabf-2c17c0f6332f
DTSTAMP:20260423T070839Z
DTSTART;VALUE=DATE:20260923
DTEND;VALUE=DATE:20260928
LOCATION:
SUMMARY:Retiro, Escola do Santuário: Coração de Maria, átrio da santida
	de de cada dia
DESCRIPTION:
END:VEVENT
END:VCALENDAR
