BEGIN:VCALENDAR
VERSION:2.0
PRODID:-//Santuário de Fátima//NONSGML SF2ICAL v1.0//EN
METHOD:PUBLISH
X-WR-CALNAME:Santuário de Fátima
X-ORIGINAL-URL:https://www.fatima.pt/
X-WR-CALDESC:Events for Santuário de Fátima
BEGIN:VEVENT
UID:2213d2e3-7432-4b1d-a684-73793145ff2c
DTSTAMP:20260422T195531Z
DTSTART;VALUE=DATE:20260703
DTEND;VALUE=DATE:20260706
LOCATION:
SUMMARY:Retiro, Escola do Santuário: Coração de Maria, tenda do encontro
	 com Deus
DESCRIPTION:
END:VEVENT
END:VCALENDAR
