BEGIN:VCALENDAR
VERSION:2.0
PRODID:-//Santuário de Fátima//NONSGML SF2ICAL v1.0//EN
METHOD:PUBLISH
X-WR-CALNAME:Santuário de Fátima
X-ORIGINAL-URL:https://www.fatima.pt/
X-WR-CALDESC:Events for Santuário de Fátima
BEGIN:VEVENT
UID:c44634b6-08b8-486b-810f-952b047b30ef
DTSTAMP:20260423T222905Z
DTSTART;VALUE=DATE:20260723
DTEND;VALUE=DATE:20260730
LOCATION:
SUMMARY:Vem para o meio. Férias para pais de pessoas com deficiência –
	 2.ª semana
DESCRIPTION:
END:VEVENT
END:VCALENDAR
