BEGIN:VCALENDAR
VERSION:2.0
PRODID:-//Santuário de Fátima//NONSGML SF2ICAL v1.0//EN
METHOD:PUBLISH
X-WR-CALNAME:Santuário de Fátima
X-ORIGINAL-URL:https://www.fatima.pt/
X-WR-CALDESC:Events for Santuário de Fátima
BEGIN:VEVENT
UID:344fc4bf-5445-4460-92eb-74e63dd8bfa0
DTSTAMP:20260423T131748Z
DTSTART;VALUE=DATE:20300814
DTEND;VALUE=DATE:20300815
LOCATION:
SUMMARY:Vigília da Assunção da Virgem de Santa Maria, com canto do hino 
	Akathistos
DESCRIPTION:
END:VEVENT
END:VCALENDAR
