BEGIN:VCALENDAR
VERSION:2.0
PRODID:-//Santuário de Fátima//NONSGML SF2ICAL v1.0//ES
METHOD:PUBLISH
X-WR-CALNAME:Santuário de Fátima
X-ORIGINAL-URL:https://www.fatima.pt/
X-WR-CALDESC:Events for Santuário de Fátima
BEGIN:VEVENT
UID:e1e31113-8b81-45af-915a-b0be385be6c8
DTSTAMP:20260422T062738Z
DTSTART;VALUE=DATE:20260513
DTEND;VALUE=DATE:20260514
LOCATION:
SUMMARY:Aniversário da canonização dos Santos Francisco e Jacinta Marto 
	(2017)
DESCRIPTION:
END:VEVENT
END:VCALENDAR
