BEGIN:VCALENDAR
VERSION:2.0
PRODID:-//Santuário de Fátima//NONSGML SF2ICAL v1.0//ES
METHOD:PUBLISH
X-WR-CALNAME:Santuário de Fátima
X-ORIGINAL-URL:https://www.fatima.pt/
X-WR-CALDESC:Events for Santuário de Fátima
BEGIN:VEVENT
UID:dd412db1-2721-4ab1-8c9d-8c25a003f958
DTSTAMP:20260422T062306Z
DTSTART;VALUE=DATE:20260611
DTEND;VALUE=DATE:20260612
LOCATION:
SUMMARY:Aniversário do nascimento de São Francisco Marto (1908)
DESCRIPTION:
END:VEVENT
END:VCALENDAR
