BEGIN:VCALENDAR
VERSION:2.0
PRODID:-//Santuário de Fátima//NONSGML SF2ICAL v1.0//ES
METHOD:PUBLISH
X-WR-CALNAME:Santuário de Fátima
X-ORIGINAL-URL:https://www.fatima.pt/
X-WR-CALDESC:Events for Santuário de Fátima
BEGIN:VEVENT
UID:13a8e358-bc29-4008-ba9f-42add5adddf8
DTSTAMP:20260423T134828Z
DTSTART;VALUE=DATE:20280819
DTEND;VALUE=DATE:20280820
LOCATION:
SUMMARY:Celebração do aniversário das aparições de Nossa Senhora nos V
	alinhos
DESCRIPTION:
END:VEVENT
END:VCALENDAR
