BEGIN:VCALENDAR
VERSION:2.0
PRODID:-//Santuário de Fátima//NONSGML SF2ICAL v1.0//ES
METHOD:PUBLISH
X-WR-CALNAME:Santuário de Fátima
X-ORIGINAL-URL:https://www.fatima.pt/
X-WR-CALDESC:Events for Santuário de Fátima
BEGIN:VEVENT
UID:4e5cbeac-5a49-4879-a0a1-1f5629ed529d
DTSTAMP:20260423T175409Z
DTSTART;VALUE=DATE:20330819
DTEND;VALUE=DATE:20330820
LOCATION:
SUMMARY:Celebração do aniversário das aparições de Nossa Senhora nos V
	alinhos
DESCRIPTION:
END:VEVENT
END:VCALENDAR
