BEGIN:VCALENDAR
VERSION:2.0
PRODID:-//Santuário de Fátima//NONSGML SF2ICAL v1.0//ES
METHOD:PUBLISH
X-WR-CALNAME:Santuário de Fátima
X-ORIGINAL-URL:https://www.fatima.pt/
X-WR-CALDESC:Events for Santuário de Fátima
BEGIN:VEVENT
UID:9f706f80-0bb8-408e-8c83-cef1faa44544
DTSTAMP:20260423T014206Z
DTSTART:20261018T143000Z
DTEND:20261018T153000Z
LOCATION:
SUMMARY:Concerto Ecos de Fátima
DESCRIPTION:
END:VEVENT
END:VCALENDAR
