BEGIN:VCALENDAR
VERSION:2.0
PRODID:-//Santuário de Fátima//NONSGML SF2ICAL v1.0//ES
METHOD:PUBLISH
X-WR-CALNAME:Santuário de Fátima
X-ORIGINAL-URL:https://www.fatima.pt/
X-WR-CALDESC:Events for Santuário de Fátima
BEGIN:VEVENT
UID:7a6d8a9d-de8d-43e9-84bb-3e8b686c95ec
DTSTAMP:20260423T153503Z
DTSTART;VALUE=DATE:20311113
DTEND;VALUE=DATE:20311114
LOCATION:Santíssima Trindade
SUMMARY:Dedicação da Basílica da Santíssima Trindade
DESCRIPTION:
END:VEVENT
END:VCALENDAR
