BEGIN:VCALENDAR
VERSION:2.0
PRODID:-//Santuário de Fátima//NONSGML SF2ICAL v1.0//ES
METHOD:PUBLISH
X-WR-CALNAME:Santuário de Fátima
X-ORIGINAL-URL:https://www.fatima.pt/
X-WR-CALDESC:Events for Santuário de Fátima
BEGIN:VEVENT
UID:236dd39d-3059-4c90-a254-6e764e6c4e21
DTSTAMP:20260423T175412Z
DTSTART;VALUE=DATE:20340726
DTEND;VALUE=DATE:20340727
LOCATION:
SUMMARY:Dia dos avós, na Festa Litúrgica de S. Joaquim e Santa Ana
DESCRIPTION:
END:VEVENT
END:VCALENDAR
