BEGIN:VCALENDAR
VERSION:2.0
PRODID:-//Santuário de Fátima//NONSGML SF2ICAL v1.0//ES
METHOD:PUBLISH
X-WR-CALNAME:Santuário de Fátima
X-ORIGINAL-URL:https://www.fatima.pt/
X-WR-CALDESC:Events for Santuário de Fátima
BEGIN:VEVENT
UID:fe500ea0-6a5a-4ec8-81f9-c039cde6db7d
DTSTAMP:20260423T180847Z
DTSTART;VALUE=DATE:20290726
DTEND;VALUE=DATE:20290727
LOCATION:
SUMMARY:Dia dos avós, na Festa Litúrgica de S. Joaquim e Santa Ana
DESCRIPTION:
END:VEVENT
END:VCALENDAR
