BEGIN:VCALENDAR
VERSION:2.0
PRODID:-//Santuário de Fátima//NONSGML SF2ICAL v1.0//ES
METHOD:PUBLISH
X-WR-CALNAME:Santuário de Fátima
X-ORIGINAL-URL:https://www.fatima.pt/
X-WR-CALDESC:Events for Santuário de Fátima
BEGIN:VEVENT
UID:242bd4db-5f92-4d25-9e05-683de16aeb5a
DTSTAMP:20260423T200724Z
DTSTART;VALUE=DATE:20340220
DTEND;VALUE=DATE:20340221
LOCATION:Festa
SUMMARY:Festa dos Santos Francisco e Jacinta Marto
DESCRIPTION:
END:VEVENT
END:VCALENDAR
