BEGIN:VCALENDAR
VERSION:2.0
PRODID:-//Santuário de Fátima//NONSGML SF2ICAL v1.0//ES
METHOD:PUBLISH
X-WR-CALNAME:Santuário de Fátima
X-ORIGINAL-URL:https://www.fatima.pt/
X-WR-CALDESC:Events for Santuário de Fátima
BEGIN:VEVENT
UID:850c75fc-9ad7-427e-b785-cb8a0efc60bb
DTSTAMP:20260423T175240Z
DTSTART;VALUE=DATE:20341208
DTEND;VALUE=DATE:20341209
LOCATION:
SUMMARY:Imaculada Conceição da Virgem Santa Maria - SOLENIDADE
DESCRIPTION:
END:VEVENT
END:VCALENDAR
