BEGIN:VCALENDAR
VERSION:2.0
PRODID:-//Santuário de Fátima//NONSGML SF2ICAL v1.0//ES
METHOD:PUBLISH
X-WR-CALNAME:Santuário de Fátima
X-ORIGINAL-URL:https://www.fatima.pt/
X-WR-CALDESC:Events for Santuário de Fátima
BEGIN:VEVENT
UID:29fed90e-a713-40f7-a217-78c5eb7ae6ba
DTSTAMP:20260422T061008Z
DTSTART;VALUE=DATE:20260515
DTEND;VALUE=DATE:20260516
LOCATION:
SUMMARY:Lectio Divina Preparatória do Domingo
DESCRIPTION:
END:VEVENT
END:VCALENDAR
