BEGIN:VCALENDAR
VERSION:2.0
PRODID:-//Santuário de Fátima//NONSGML SF2ICAL v1.0//ES
METHOD:PUBLISH
X-WR-CALNAME:Santuário de Fátima
X-ORIGINAL-URL:https://www.fatima.pt/
X-WR-CALDESC:Events for Santuário de Fátima
BEGIN:VEVENT
UID:2ed9de29-afb7-493c-97ef-7e37913b21bf
DTSTAMP:20260423T195622Z
DTSTART;VALUE=DATE:20350813
DTEND;VALUE=DATE:20350814
LOCATION:
SUMMARY:Peregrinação aniversária
DESCRIPTION:
END:VEVENT
END:VCALENDAR
