BEGIN:VCALENDAR
VERSION:2.0
PRODID:-//Santuário de Fátima//NONSGML SF2ICAL v1.0//ES
METHOD:PUBLISH
X-WR-CALNAME:Santuário de Fátima
X-ORIGINAL-URL:https://www.fatima.pt/
X-WR-CALDESC:Events for Santuário de Fátima
BEGIN:VEVENT
UID:3b11cbe1-1494-4b8b-b623-7f4dde3f949d
DTSTAMP:20260423T180540Z
DTSTART;VALUE=DATE:20290513
DTEND;VALUE=DATE:20290514
LOCATION:
SUMMARY:Peregrinação Aniversária
DESCRIPTION:
END:VEVENT
END:VCALENDAR
