BEGIN:VCALENDAR
VERSION:2.0
PRODID:-//Santuário de Fátima//NONSGML SF2ICAL v1.0//ES
METHOD:PUBLISH
X-WR-CALNAME:Santuário de Fátima
X-ORIGINAL-URL:https://www.fatima.pt/
X-WR-CALDESC:Events for Santuário de Fátima
BEGIN:VEVENT
UID:b65446a4-7bff-4249-a9e9-e67606f8522e
DTSTAMP:20260423T132906Z
DTSTART;VALUE=DATE:20280813
DTEND;VALUE=DATE:20280814
LOCATION:
SUMMARY:Peregrinação aniversária
DESCRIPTION:
END:VEVENT
END:VCALENDAR
