BEGIN:VCALENDAR
VERSION:2.0
PRODID:-//Santuário de Fátima//NONSGML SF2ICAL v1.0//ES
METHOD:PUBLISH
X-WR-CALNAME:Santuário de Fátima
X-ORIGINAL-URL:https://www.fatima.pt/
X-WR-CALDESC:Events for Santuário de Fátima
BEGIN:VEVENT
UID:a98e597e-ce5d-4ea7-8239-e46862a302fc
DTSTAMP:20260423T181918Z
DTSTART;VALUE=DATE:20290812
DTEND;VALUE=DATE:20290813
LOCATION:
SUMMARY:Peregrinação Internacional Aniversária
DESCRIPTION:
END:VEVENT
END:VCALENDAR
