BEGIN:VCALENDAR
VERSION:2.0
PRODID:-//Santuário de Fátima//NONSGML SF2ICAL v1.0//ES
METHOD:PUBLISH
X-WR-CALNAME:Santuário de Fátima
X-ORIGINAL-URL:https://www.fatima.pt/
X-WR-CALDESC:Events for Santuário de Fátima
BEGIN:VEVENT
UID:5eacae5c-c574-4694-a3dc-1d5c65fcd1f5
DTSTAMP:20260424T014139Z
DTSTART;VALUE=DATE:20270313
DTEND;VALUE=DATE:20270314
LOCATION:
SUMMARY:Peregrinação Mensal
DESCRIPTION:
END:VEVENT
END:VCALENDAR
